BEGIN:VCALENDAR
VERSION:2.0
PRODID:-//ChamberMaster//Event Calendar 2.0//EN
METHOD:PUBLISH
X-PUBLISHED-TTL:P3D
REFRESH-INTERVAL:P3D
CALSCALE:GREGORIAN
BEGIN:VEVENT
DTSTART:20240307T223000Z
DTEND:20240308T000000Z
X-MICROSOFT-CDO-ALLDAYEVENT:FALSE
SUMMARY:Youth Art Month Opening Reception
DESCRIPTION:This annual event highlights students skills and creativity. The show has two competitions and will be judged for The Colquitt County School System and the Kiwanis Georgia District Art & Music Competition in April 2024.
X-ALT-DESC;FMTTYPE=text/html:<span style="color:rgb(47\, 46\, 46)\; font-family:wfont_aae0ba_8348efa83cf74e2688957574aa574fdf\,wf_8348efa83cf74e2688957574a\,orig_cabin_regular\; font-size:16px">This annual event highlights students skills and creativity. The show has two competitions and will be judged for The Colquitt County School System and the Kiwanis Georgia District Art &amp\; Music Competition in April 2024.</span>
LOCATION:Arts Center of Moultrie 401 7th St. Moultrie\, GA 31768
UID:e.570.13250
SEQUENCE:3
DTSTAMP:20260424T100148Z
URL:https://business.moultriechamber.com/events/details/youth-art-month-opening-reception-13250
END:VEVENT

END:VCALENDAR
