BEGIN:VCALENDAR
VERSION:2.0
PRODID:-//ChamberMaster//Event Calendar 2.0//EN
METHOD:PUBLISH
X-PUBLISHED-TTL:P3D
REFRESH-INTERVAL:P3D
CALSCALE:GREGORIAN
BEGIN:VEVENT
DTSTART:20240708T143000Z
DTEND:20240708T153000Z
X-MICROSOFT-CDO-ALLDAYEVENT:FALSE
SUMMARY:Wonka's Candy Adventure and Movie Marathon
DESCRIPTION:Recommended for ages 5 and up. Groups should be limited to six and include at least one adult. Free registration is required. Register online starting May 13 at www.mccls.org/summer
X-ALT-DESC;FMTTYPE=text/html:Recommended for ages 5 and up. Groups should be limited to six and include at least one adult. Free registration is required. Register online starting May 13 at www.mccls.org/summer
LOCATION:Moultrie Colquitt County Library 204 5th St\, SE\, Moultrie\, GA
UID:e.570.13288
SEQUENCE:3
DTSTAMP:20260424T053144Z
URL:https://business.moultriechamber.com/events/details/wonka-s-candy-adventure-and-movie-marathon-13288
END:VEVENT

END:VCALENDAR
