BEGIN:VCALENDAR
VERSION:2.0
PRODID:-//ChamberMaster//Event Calendar 2.0//EN
METHOD:PUBLISH
X-PUBLISHED-TTL:P3D
REFRESH-INTERVAL:P3D
CALSCALE:GREGORIAN
BEGIN:VEVENT
DTSTART:20251106T140000Z
DTEND:20251106T200000Z
X-MICROSOFT-CDO-ALLDAYEVENT:FALSE
SUMMARY:Women’s Business Summit
DESCRIPTION:Save the date for the Women's Business Summit\, hosted by the University of Georgia Small Business Development Center at Valdosta State University. This full-day event will take place on Thursday\, November 6\, from 9:00 a.m. to 3:00 p.m. at the Rainwater Conference Center in Valdosta\, GA.\n\nThe summit is designed to bring women entrepreneurs\, business leaders\, and professionals together for a day of networking\, inspiration\, and growth. Attendees will have the opportunity to connect with peers\, learn from experts\, and gain valuable resources to help grow and strengthen their businesses.
X-ALT-DESC;FMTTYPE=text/html:&nbsp\;\n<p data-end="444" data-start="143"><span style="font-size:18px\;">Save the date for the <strong data-end="192" data-start="165">Women&rsquo\;s Business Summit</strong>\, hosted by the University of Georgia Small Business Development Center at Valdosta State University. This full-day event will take place on <strong data-end="386" data-start="333">Thursday\, November 6\, from 9:00 a.m. to 3:00 p.m.</strong> at the <strong data-end="441" data-start="394">Rainwater Conference Center in Valdosta\, GA</strong>.</span></p>\n\n<p data-end="748" data-start="446"><span style="font-size:18px\;">The summit is designed to bring women entrepreneurs\, business leaders\, and professionals together for a day of networking\, inspiration\, and growth. Attendees will have the opportunity to connect with peers\, learn from experts\, and gain valuable resources to help grow and strengthen their businesses.</span></p>\n\n<p data-end="916" data-start="750">&nbsp\;</p>\n
LOCATION:Rainwater Conference Center\, Valdosta\, GA
UID:e.570.13413
SEQUENCE:3
DTSTAMP:20260423T162657Z
URL:https://business.moultriechamber.com/events/details/women-s-business-summit-13413
END:VEVENT

END:VCALENDAR
