BEGIN:VCALENDAR
VERSION:2.0
PRODID:-//ChamberMaster//Event Calendar 2.0//EN
METHOD:PUBLISH
X-PUBLISHED-TTL:P3D
REFRESH-INTERVAL:P3D
CALSCALE:GREGORIAN
BEGIN:VEVENT
DTSTART:20231006T230000Z
DTEND:20231007T000000Z
X-MICROSOFT-CDO-ALLDAYEVENT:FALSE
SUMMARY:Winnie The Pooh
DESCRIPTION:Youth Theater production of Winnie the Pooh\, Kids. This 50 minute performance is a perfect introduction to live theater for little audiences.
X-ALT-DESC;FMTTYPE=text/html:Youth Theater production of Winnie the Pooh\, Kids. This 50 minute performance is a perfect introduction to live theater for little audiences.
LOCATION:The Arts Center of Moultrie
UID:e.570.13198
SEQUENCE:3
DTSTAMP:20260424T160142Z
URL:https://business.moultriechamber.com/events/details/winnie-the-pooh-13198
END:VEVENT

END:VCALENDAR
