BEGIN:VCALENDAR
VERSION:2.0
PRODID:-//ChamberMaster//Event Calendar 2.0//EN
METHOD:PUBLISH
X-PUBLISHED-TTL:P3D
REFRESH-INTERVAL:P3D
CALSCALE:GREGORIAN
BEGIN:VEVENT
DTSTART:20231007T180000Z
DTEND:20231007T190000Z
X-MICROSOFT-CDO-ALLDAYEVENT:FALSE
SUMMARY:Winnie The Pooh
DESCRIPTION:Youth Theater production of Winnie the Pooh\, Kids. This 50 minute performance is a perfect introduction to live theater for little audiences.
X-ALT-DESC;FMTTYPE=text/html:Youth Theater production of Winnie the Pooh\, Kids. This 50 minute performance is a perfect introduction to live theater for little audiences.
LOCATION:Arts Center of Moultrie
UID:e.570.13199
SEQUENCE:3
DTSTAMP:20260424T160855Z
URL:https://business.moultriechamber.com/events/details/winnie-the-pooh-10-07-2023-13199
END:VEVENT

END:VCALENDAR
