BEGIN:VCALENDAR
VERSION:2.0
PRODID:-//ChamberMaster//Event Calendar 2.0//EN
METHOD:PUBLISH
X-PUBLISHED-TTL:P3D
REFRESH-INTERVAL:P3D
CALSCALE:GREGORIAN
BEGIN:VEVENT
DTSTART:20251115T130000Z
DTEND:20251115T210000Z
X-MICROSOFT-CDO-ALLDAYEVENT:FALSE
SUMMARY:Whoville Holiday Market - MCCPRA
DESCRIPTION:Step into a festive Whoville wonderland and get ready to shop for one-of-a-kind\, handmade gifts just in time for the holidays. The Whoville Holiday Market will feature 25 unique vendors offering everything from seasonal decors and crafts to baked goods and local creations. \n\nEnjoy a day of holiday cheer \, community connection\, and shopping small\, This family-friendly event is the perfect way to kick off the holiday season. \n\n\n\nHosted by the Moultrie-Colquitt County Parks & Recreation Authority
X-ALT-DESC;FMTTYPE=text/html:<br />\n<span style="font-size:16px\;">Step into a festive Whoville wonderland and get ready to shop for one-of-a-kind\, handmade gifts just in time for the holidays. The Whoville Holiday Market will feature 25 unique vendors offering everything from seasonal decors and crafts to baked goods and local creations.&nbsp\;<br />\nEnjoy a day of holiday cheer \, community connection\, and shopping small\, This family-friendly event is the perfect way to kick off the holiday season.&nbsp\;<br />\n<br />\nHosted by the Moultrie-Colquitt County Parks &amp\; Recreation Authority&nbsp\;</span>
LOCATION:Meredith Gym
UID:e.570.13441
SEQUENCE:3
DTSTAMP:20260419T123605Z
URL:https://business.moultriechamber.com/events/details/whoville-holiday-market-mccpra-13441
END:VEVENT

END:VCALENDAR
