BEGIN:VCALENDAR
VERSION:2.0
PRODID:-//ChamberMaster//Event Calendar 2.0//EN
METHOD:PUBLISH
X-PUBLISHED-TTL:P3D
REFRESH-INTERVAL:P3D
CALSCALE:GREGORIAN
BEGIN:VEVENT
DTSTART:20230422T141500Z
DTEND:20230422T151500Z
X-MICROSOFT-CDO-ALLDAYEVENT:FALSE
SUMMARY:Weekend Bees
DESCRIPTION:Stories\, songs\, rhymes\, and more for children ages 0-3. Storytime lasts around 20 minutes\, followed by playtime with age-appropriate toys.
X-ALT-DESC;FMTTYPE=text/html:Stories\, songs\, rhymes\, and more for children ages 0-3. Storytime lasts around 20 minutes\, followed by playtime with age-appropriate toys.
LOCATION:Moultrie Library 204 5th St\, SE Moultrie\, GA
UID:e.570.13108
SEQUENCE:3
DTSTAMP:20260424T233503Z
URL:https://business.moultriechamber.com/events/details/weekend-bees-13108
END:VEVENT

END:VCALENDAR
