BEGIN:VCALENDAR
VERSION:2.0
PRODID:-//ChamberMaster//Event Calendar 2.0//EN
METHOD:PUBLISH
X-PUBLISHED-TTL:P3D
REFRESH-INTERVAL:P3D
CALSCALE:GREGORIAN
BEGIN:VEVENT
DTSTART;VALUE=DATE:20240329
DTEND;VALUE=DATE:20240330
TRANSP:TRANSPARENT
X-MICROSOFT-CDO-ALLDAYEVENT:TRUE
SUMMARY:Vietnam War Veterans Day
DESCRIPTION:50th Commemoration of Vietnam War
X-ALT-DESC;FMTTYPE=text/html:50th Commemoration of Vietnam War
LOCATION:
UID:e.570.13180
SEQUENCE:3
DTSTAMP:20260424T100133Z
URL:https://business.moultriechamber.com/events/details/vietnam-war-veterans-day-13180
END:VEVENT

END:VCALENDAR
