BEGIN:VCALENDAR
VERSION:2.0
PRODID:-//ChamberMaster//Event Calendar 2.0//EN
METHOD:PUBLISH
X-PUBLISHED-TTL:P3D
REFRESH-INTERVAL:P3D
CALSCALE:GREGORIAN
BEGIN:VEVENT
DTSTART:20250603T213000Z
DTEND:20250603T213000Z
X-MICROSOFT-CDO-ALLDAYEVENT:FALSE
SUMMARY:United Way-Mini pitch grand opening
DESCRIPTION:Join us for the exciting grand opening of the Mini Pitch at William Bryant Park! This state-of-the-art outdoor soccer facility is a dynamic new space for youth and community sports\, proudly presented by the Moultrie-Colquitt County Parks & Recreation Authority (MCCPRA) in partnership with Atlanta United FC and United Way of Colquitt County.
X-ALT-DESC;FMTTYPE=text/html:Join us for the exciting grand opening of the Mini Pitch at William Bryant Park! This state-of-the-art outdoor soccer facility is a dynamic new space for youth and community sports\, proudly presented by the Moultrie-Colquitt County Parks &amp\; Recreation Authority (MCCPRA) in partnership with Atlanta United FC and United Way of Colquitt County.
LOCATION:William Bryant Park 735 5th Ave NW\, Moultrie\, Georgia
UID:e.570.13363
SEQUENCE:3
DTSTAMP:20260423T110725Z
URL:https://business.moultriechamber.com/events/details/united-way-mini-pitch-grand-opening-13363
END:VEVENT

END:VCALENDAR
