BEGIN:VCALENDAR
VERSION:2.0
PRODID:-//ChamberMaster//Event Calendar 2.0//EN
METHOD:PUBLISH
X-PUBLISHED-TTL:P3D
REFRESH-INTERVAL:P3D
CALSCALE:GREGORIAN
BEGIN:VEVENT
DTSTART;VALUE=DATE:20250802
DTEND;VALUE=DATE:20250803
TRANSP:TRANSPARENT
X-MICROSOFT-CDO-ALLDAYEVENT:TRUE
SUMMARY:United Way- Cornhole Classic
DESCRIPTION:Get ready to toss some bags and bring the heat at the Colquitt County Cornhole Classic! This exciting community tournament invites teams of two to compete for fun and bragging rights\, all while supporting a great cause.
X-ALT-DESC;FMTTYPE=text/html:<br />\nGet ready to toss some bags and bring the heat at the <strong data-end="246" data-start="210">Colquitt County Cornhole Classic</strong>! This exciting community tournament invites teams of two to compete for fun and bragging rights\, all while supporting a great cause.
LOCATION:Tommy Meredith Gym
UID:e.570.13381
SEQUENCE:3
DTSTAMP:20260423T110320Z
URL:https://business.moultriechamber.com/events/details/united-way-cornhole-classic-13381
END:VEVENT

END:VCALENDAR
