BEGIN:VCALENDAR
VERSION:2.0
PRODID:-//ChamberMaster//Event Calendar 2.0//EN
METHOD:PUBLISH
X-PUBLISHED-TTL:P3D
REFRESH-INTERVAL:P3D
CALSCALE:GREGORIAN
BEGIN:VEVENT
DTSTART:20230401T140000Z
DTEND:20230401T160000Z
X-MICROSOFT-CDO-ALLDAYEVENT:FALSE
SUMMARY:Underwater Egg Hunt
DESCRIPTION:Please join us for an Underwater Egg Hunt at SW Memorial pool Saturday April 1st at 10AM. There will be eggs for all ages and prizes! More info to follow!
X-ALT-DESC;FMTTYPE=text/html:Please join us for an Underwater Egg Hunt at SW Memorial pool Saturday April 1st at 10AM. There will be eggs for all ages and prizes! More info to follow!
LOCATION:SW Memorial Pool
UID:e.570.13027
SEQUENCE:3
DTSTAMP:20260424T233408Z
URL:https://business.moultriechamber.com/events/details/underwater-egg-hunt-13027
END:VEVENT

END:VCALENDAR
