BEGIN:VCALENDAR
VERSION:2.0
PRODID:-//ChamberMaster//Event Calendar 2.0//EN
METHOD:PUBLISH
X-PUBLISHED-TTL:P3D
REFRESH-INTERVAL:P3D
CALSCALE:GREGORIAN
BEGIN:VEVENT
DTSTART:20251103T193000Z
DTEND:20251103T213000Z
X-MICROSOFT-CDO-ALLDAYEVENT:FALSE
SUMMARY:UGA Nonprofit Alliance South Georgia Listening Sessions
DESCRIPTION:The University of Georgia invites you to join us for an interactive session with UGA's non-profit alliance (comprised of faculty from various schools and colleges). Discussion topics may include managing employee turnover\, employee benefits\, and burnout for non-profit leaders\, staff and board members. This will be an interactive session with time for both information gathering and sharing. \n\n \n\nAt the sessions you will:\n\n	Hear results from the Nonprofit Employee Benefits Study.\n	Share your experiences and perspectives.\n	Learn how other nonprofits are addressing employee benefits\, turnover\, and burnout.\n\n \n\nDates & Locations:\n\n\n	Moultrie: Monday\, November 3\, 2025 | 2:30 4:30 p.m.\n\n	Southern Regional Technical College\, SWGA Bank Conference Center\n\n	800 N Veterans Pkwy\, Moultrie\, GA 31788\n	Tifton: Tuesday\, November 4\, 2025 | 8:30 10:30 a.m.\n\n	UGA Tifton\, NESPAL Building\n\n	2353 Rainwater Road\, Tifton\, GA 31793
X-ALT-DESC;FMTTYPE=text/html:<span style="font-size:16px\;">&nbsp\;<br />\n<br />\n<span style="color: rgb(32\, 33\, 36)\; font-family: Roboto\, Arial\, sans-serif\; white-space-collapse: preserve\;">The University of Georgia invites you to join us for an interactive session with UGA&#39\;s non-profit alliance (comprised of faculty from various schools and colleges). Discussion topics may include managing employee turnover\, employee benefits\, and burnout for non-profit leaders\, staff and board members. This will be an interactive session with time for both information gathering and sharing.&nbsp\;</span><br />\n&nbsp\;<br />\n<strong>At the sessions you will:</strong></span>\n<ul>\n	<li><span style="font-size:16px\;">Hear results from the Nonprofit Employee Benefits Study.</span></li>\n	<li><span style="font-size:16px\;">Share your experiences and perspectives.</span></li>\n	<li><span style="font-size:16px\;">Learn how other nonprofits are addressing employee benefits\, turnover\, and burnout.</span></li>\n</ul>\n<span style="font-size:16px\;">&nbsp\;<br />\n<strong>Dates &amp\; Locations:</strong></span>\n\n<ul>\n	<li><span style="font-size:16px\;"><strong>Moultrie</strong>: Monday\, November 3\, 2025 | 2:30&ndash\;4:30 p.m.<br />\n	Southern Regional Technical College\, SWGA Bank Conference Center<br />\n	800 N Veterans Pkwy\, Moultrie\, GA 31788</span></li>\n	<li><span style="font-size:16px\;"><strong>Tifton</strong>: Tuesday\, November 4\, 2025 | 8:30&ndash\;10:30 a.m.<br />\n	UGA Tifton\, NESPAL Building<br />\n	2353 Rainwater Road\, Tifton\, GA 31793</span></li>\n</ul>\n
LOCATION:Southern Regional Technical College\, SWGA Bank Conference Center 800 N Veterans Pkwy\, Moultrie\, GA 31788
UID:e.570.13438
SEQUENCE:3
DTSTAMP:20260419T123027Z
URL:https://business.moultriechamber.com/events/details/uga-nonprofit-alliance-south-georgia-listening-sessions-13438
END:VEVENT

END:VCALENDAR
