BEGIN:VCALENDAR
VERSION:2.0
PRODID:-//ChamberMaster//Event Calendar 2.0//EN
METHOD:PUBLISH
X-PUBLISHED-TTL:P3D
REFRESH-INTERVAL:P3D
CALSCALE:GREGORIAN
BEGIN:VEVENT
DTSTART:20251108T140000Z
DTEND:20251108T170000Z
X-MICROSOFT-CDO-ALLDAYEVENT:FALSE
SUMMARY:Touch-A-Truck & More! - MCCPRA
DESCRIPTION:Bring the whole family out for a fun and interactive morning at Touch-A-Truck & More\, hosted by the Moultrie-Colquitt County Parks & Recreation Authority. Kids (and kids at heart) will have the opportunity to get up close and explore a variety of vehicles   from fire trucks and police cars to tractors\, construction trucks\, and more.\n\nA special quiet hour will be offered from 9:00 AM to 10:00 AM for those with sensitive ears\, providing a comfortable environment for everyone to enjoy the experience.
X-ALT-DESC;FMTTYPE=text/html:<p data-end="579" data-start="239"><br />\n<span style="font-size:16px\;">Bring the whole family out for a fun and interactive morning at <strong data-end="327" data-start="303">Touch-A-Truck &amp\; More</strong>\, hosted by the Moultrie-Colquitt County Parks &amp\; Recreation Authority. Kids (and kids at heart) will have the opportunity to get up close and explore a variety of vehicles &mdash\; from fire trucks and police cars to tractors\, construction trucks\, and more.</span></p>\n\n<p data-end="757" data-start="581"><span style="font-size:16px\;">A special quiet hour&nbsp\;will be offered from <strong data-end="650" data-start="627">9:00 AM to 10:00 AM</strong> for those with sensitive ears\, providing a comfortable environment for everyone to enjoy the experience.</span></p>\n
LOCATION:Goff Complex
UID:e.570.13444
SEQUENCE:3
DTSTAMP:20260423T162636Z
URL:https://business.moultriechamber.com/events/details/touch-a-truck-more-mccpra-13444
END:VEVENT

END:VCALENDAR
