BEGIN:VCALENDAR
VERSION:2.0
PRODID:-//ChamberMaster//Event Calendar 2.0//EN
METHOD:PUBLISH
X-PUBLISHED-TTL:P3D
REFRESH-INTERVAL:P3D
CALSCALE:GREGORIAN
BEGIN:VEVENT
DTSTART:20250605T140000Z
DTEND:20250605T140000Z
X-MICROSOFT-CDO-ALLDAYEVENT:FALSE
SUMMARY:Tommie Jackson dedication- MCCPRA
DESCRIPTION:The Moultrie-Colquitt County Parks & Recreation Authority invites you to a special dedication ceremony honoring the legacy of Tommie Lee Jackson\, Jr. Join us as we officially name the community's newest aquatic facility in his memory.\n\n\n\nCelebrate this meaningful moment with family\, friends\, and community members as we recognize Mr. Jackson's contributions and unveil a vibrant space for fun\, recreation\, and lasting memories.
X-ALT-DESC;FMTTYPE=text/html:<p data-end="362" data-start="128">The Moultrie-Colquitt County Parks &amp\; Recreation Authority invites you to a special dedication ceremony honoring the legacy of Tommie Lee Jackson\, Jr. Join us as we officially name the community&rsquo\;s newest aquatic facility in his memory.<br />\n<br />\nCelebrate this meaningful moment with family\, friends\, and community members as we recognize Mr. Jackson&#39\;s contributions and unveil a vibrant space for fun\, recreation\, and lasting memories.</p>\n
LOCATION:Aquatic center 605 6th Ave NW\, Moultrie\, Georgia
UID:e.570.13364
SEQUENCE:3
DTSTAMP:20260423T110342Z
URL:https://business.moultriechamber.com/events/details/tommie-jackson-dedication-mccpra-13364
END:VEVENT

END:VCALENDAR
