BEGIN:VCALENDAR
VERSION:2.0
PRODID:-//ChamberMaster//Event Calendar 2.0//EN
METHOD:PUBLISH
X-PUBLISHED-TTL:P3D
REFRESH-INTERVAL:P3D
CALSCALE:GREGORIAN
BEGIN:VEVENT
DTSTART:20250912T153000Z
DTEND:20250912T153000Z
X-MICROSOFT-CDO-ALLDAYEVENT:FALSE
SUMMARY:SERVPRO Golf & Give
DESCRIPTION:Join us for the SERVPRO Golf & Give Tournament    a fun-filled day of golf that gives back! This 4-person scramble tournament benefits Thomas County Cares\, a local nonprofit supporting those in need throughout our community.
X-ALT-DESC;FMTTYPE=text/html:Join us for the <strong data-end="214" data-start="180">SERVPRO Golf &amp\; Give Tournament</strong> &nbsp\;&mdash\; a fun-filled day of golf that gives back! This 4-person scramble tournament benefits <strong data-end="387" data-start="364">Thomas County Cares</strong>\, a local nonprofit supporting those in need throughout our community.
LOCATION:Country Oaks Golf Course
UID:e.570.13382
SEQUENCE:3
DTSTAMP:20260423T135121Z
URL:https://business.moultriechamber.com/events/details/tnb-servpro-golf-give-13382
END:VEVENT

END:VCALENDAR
