BEGIN:VCALENDAR
VERSION:2.0
PRODID:-//ChamberMaster//Event Calendar 2.0//EN
METHOD:PUBLISH
X-PUBLISHED-TTL:P3D
REFRESH-INTERVAL:P3D
CALSCALE:GREGORIAN
BEGIN:VEVENT
DTSTART;VALUE=DATE:20251120
DTEND;VALUE=DATE:20251123
TRANSP:TRANSPARENT
X-MICROSOFT-CDO-ALLDAYEVENT:TRUE
SUMMARY:The Moultrie Automotive Swap Meet
DESCRIPTION:The popular Automotive Swap Meet is a bi-annual automotive event with 70\,000 square feet of inside space and over 4\,000 outsides spaces. This event is an automobile lover's dream with parts\, tools\, literature\, equipment\, antique and performance parts\, crafts\, and collectibles. Not to mention thousands of automobiles of many makes and models ranging in various stages of restoration.  While at the Automotive Swap Meet swing by the auto auction and visit the many vendors.
X-ALT-DESC;FMTTYPE=text/html:<br />\n<span style="font-size:18px\;"><span style="color: rgb(76\, 76\, 76)\; font-family: AvenirLTStd\; background-color: rgb(250\, 250\, 250)\;">The popular Automotive Swap Meet is a bi-annual automotive event with 70\,000 square feet of inside space and over 4\,000 outsides spaces. This event is an automobile lover&rsquo\;s dream with parts\, tools\, literature\, equipment\, antique and performance parts\, crafts\, and collectibles. Not to mention thousands of automobiles of many makes and models ranging in various stages of restoration.&nbsp\; While at the Automotive Swap Meet swing by the auto auction and visit the many vendors.</span></span>
LOCATION:Spencefield Grounds - Moultrie
UID:e.570.13416
SEQUENCE:3
DTSTAMP:20260423T162932Z
URL:https://business.moultriechamber.com/events/details/the-moultrie-automotive-swap-meet-13416
END:VEVENT

END:VCALENDAR
