BEGIN:VCALENDAR
VERSION:2.0
PRODID:-//ChamberMaster//Event Calendar 2.0//EN
METHOD:PUBLISH
X-PUBLISHED-TTL:P3D
REFRESH-INTERVAL:P3D
CALSCALE:GREGORIAN
BEGIN:VEVENT
DTSTART:20231212T230000Z
DTEND:20231213T003000Z
X-MICROSOFT-CDO-ALLDAYEVENT:FALSE
SUMMARY:The Library's 2nd Tuesday Crafters
DESCRIPTION:You are invited to join Melody Jenkins as she leads to create unique treasures on the second Tuesday of each month at 6:00 pm. This group is designed for adults but children third grade and up may attend with a parent. The workshop is free. All materials will be provided but each participant will be asked to pay $5.00 for supplies for each project. Reservations for each meeting are requested by the Thursday before the meeting on Tuesday so that supplies may be prepared for all who attend.
X-ALT-DESC;FMTTYPE=text/html:You are invited to join Melody Jenkins as she leads to create unique treasures on the second Tuesday of each month at 6:00 pm. This group is designed for adults but children third grade and up may attend with a parent. The workshop is free. All materials will be provided but each participant will be asked to pay $5.00 for supplies for each project. Reservations for each meeting are requested by the Thursday before the meeting on Tuesday so that supplies may be prepared for all who attend.
LOCATION:Moultrie Library 204 5th Sve Moultrie\, Ga
UID:e.570.13123
SEQUENCE:3
DTSTAMP:20260424T134845Z
URL:https://business.moultriechamber.com/events/details/the-library-s-2nd-tuesday-crafters-13123
END:VEVENT

END:VCALENDAR
