BEGIN:VCALENDAR
VERSION:2.0
PRODID:-//ChamberMaster//Event Calendar 2.0//EN
METHOD:PUBLISH
X-PUBLISHED-TTL:P3D
REFRESH-INTERVAL:P3D
CALSCALE:GREGORIAN
BEGIN:VEVENT
DTSTART:20231212T160000Z
DTEND:20231212T170000Z
X-MICROSOFT-CDO-ALLDAYEVENT:FALSE
SUMMARY:The Library's 2nd Tuesday Book Club
DESCRIPTION:The Moultrie-Colquitt County Library's Second Tuesday Brown Bag Book Club meets every month. The group reads selections based on a central theme. Members are encouraged (not required\, of course!) to read a book that fits that theme. We do not all read the same book. It is all right if you do not read within that month's theme\; just come and share what you have read. We are always interested in a good book! The group meets at 11:00 am on the second Tuesday of each month.
X-ALT-DESC;FMTTYPE=text/html:The Moultrie-Colquitt County Library&rsquo\;s Second Tuesday Brown Bag Book Club meets every month. The group reads selections based on a central theme. Members are encouraged (not required\, of course!) to read a book that fits that theme. We do not all read the same book. It is all right if you do not read within that month&rsquo\;s theme\; just come and share what you have read. We are always interested in a good book! The group meets at 11:00 am on the second Tuesday of each month.
LOCATION:Moultrie Library 204 5thSt\, SE Moultrie\, GA
UID:e.570.13127
SEQUENCE:3
DTSTAMP:20260424T135321Z
URL:https://business.moultriechamber.com/events/details/the-library-s-2nd-tuesday-book-club-12-12-2023-13127
END:VEVENT

END:VCALENDAR
