BEGIN:VCALENDAR
VERSION:2.0
PRODID:-//ChamberMaster//Event Calendar 2.0//EN
METHOD:PUBLISH
X-PUBLISHED-TTL:P3D
REFRESH-INTERVAL:P3D
CALSCALE:GREGORIAN
BEGIN:VEVENT
DTSTART;VALUE=DATE:20251108
DTEND;VALUE=DATE:20251110
TRANSP:TRANSPARENT
X-MICROSOFT-CDO-ALLDAYEVENT:TRUE
SUMMARY:The Calico Arts and Crafts Show
DESCRIPTION:The Calico Arts and Crafts Show is a one-stop shopping extravaganza for Southwest Georgia and the surrounding area. You can find ornamental iron\, home & garden d cor\, painted glass\, antiques\, whimsically painted children's furniture\, and much more\, all in one location!  Approximately 500 vendors attend the event to feature fine arts\, handmade crafts\, and hand-decorated items. The show has become an established\, highly anticipated event held each March and November.  Free parking and convenient access make it easy to start having fun immediately.
X-ALT-DESC;FMTTYPE=text/html:<br />\n<span style="font-size:18px\;"><span style="color: rgb(76\, 76\, 76)\; font-family: AvenirLTStd\; background-color: rgb(250\, 250\, 250)\;">The Calico Arts and Crafts Show is a one-stop shopping extravaganza for Southwest Georgia and the surrounding area. You can find ornamental iron\, home &amp\; garden d&eacute\;cor\, painted glass\, antiques\, whimsically painted children&rsquo\;s furniture\, and much more\, all in one location!&nbsp\; Approximately 500 vendors attend the event to feature fine arts\, handmade crafts\, and hand-decorated items. The show has become an established\, highly anticipated event held each March and November.&nbsp\; Free parking and convenient access make it easy to start having fun immediately.</span></span>
LOCATION:Spencefield Grounds
UID:e.570.13415
SEQUENCE:3
DTSTAMP:20260423T162910Z
URL:https://business.moultriechamber.com/events/details/the-calico-arts-and-crafts-show-13415
END:VEVENT

END:VCALENDAR
