BEGIN:VCALENDAR
VERSION:2.0
PRODID:-//ChamberMaster//Event Calendar 2.0//EN
METHOD:PUBLISH
X-PUBLISHED-TTL:P3D
REFRESH-INTERVAL:P3D
CALSCALE:GREGORIAN
BEGIN:VEVENT
DTSTART:20250208T003000Z
DTEND:20250208T030000Z
X-MICROSOFT-CDO-ALLDAYEVENT:FALSE
SUMMARY:The Art of the Hunt Week - The Hunt Dinner & Silent Auction
DESCRIPTION:The Art of the Hunt is a week-long celebration of local wildlife\, hunting culture\, and conservancy. Funds raised from these events help maintain our beautiful\, historic Arts Center campus as well as provide art supplies and education throughout our community.\n\nHunt Dinner - The event that started it all! A dueling piano performance will treat guests at this year's Hunt Dinner as they compete for much sought-after\, carefully curated silent auction items and feast on a gourmet meal with full bar.
X-ALT-DESC;FMTTYPE=text/html:<span style="color: rgb(49\, 58\, 62)\; font-family: &quot\;Open Sans&quot\;\, &quot\;Helvetica Neue&quot\;\, Arial\, sans-serif\; font-size: 16px\;">The Art of the Hunt is a week-long celebration of local wildlife\, hunting culture\, and conservancy. Funds raised from these events help maintain our beautiful\, historic Arts Center campus as well as provide art supplies and education throughout our community.<br />\nHunt Dinner - The event that started it all! A dueling piano performance will treat guests at this year&#39\;s Hunt Dinner as they compete for much sought-after\, carefully curated silent auction items and feast on a gourmet meal with full bar.</span>
LOCATION:The Arts Center of Moultrie
UID:e.570.13324
SEQUENCE:3
DTSTAMP:20260423T203943Z
URL:https://business.moultriechamber.com/events/details/the-art-of-the-hunt-week-the-hunt-dinner-silent-auction-13324
END:VEVENT

END:VCALENDAR
