BEGIN:VCALENDAR
VERSION:2.0
PRODID:-//ChamberMaster//Event Calendar 2.0//EN
METHOD:PUBLISH
X-PUBLISHED-TTL:P3D
REFRESH-INTERVAL:P3D
CALSCALE:GREGORIAN
BEGIN:VEVENT
DTSTART:20250201T230000Z
DTEND:20250202T030000Z
X-MICROSOFT-CDO-ALLDAYEVENT:FALSE
SUMMARY:The Art of the Hunt Week - Fawn & Feathers
DESCRIPTION:The Art of the Hunt is a week-long celebration of local wildlife\, hunting culture\, and conservancy. Funds raised from these events help maintain our beautiful\, historic Arts Center campus as well as provide art supplies and education throughout our community.\n\n Fawn & Feathers - This morning of hands-on art and wildlife experiences for children will occur at the Arts Center of Moultrie and include activities in our all-new\, interactive children's museum!
X-ALT-DESC;FMTTYPE=text/html:<span style="color: rgb(49\, 58\, 62)\; font-family: &quot\;Open Sans&quot\;\, &quot\;Helvetica Neue&quot\;\, Arial\, sans-serif\; font-size: 16px\;"><span style="font-size:14px\;">The Art of the Hunt is a week-long celebration of local wildlife\, hunting culture\, and conservancy. Funds raised from these events help maintain our beautiful\, historic Arts Center campus as well as provide art supplies and education throughout our community.<br />\n&nbsp\;Fawn &amp\; Feathers - This morning of hands-on art and wildlife experiences for children will occur at the Arts Center of Moultrie and include activities in our all-new\, interactive children&#39\;s museum!</span></span>
LOCATION:Kaleidoscope Children's Museum
UID:e.570.13325
SEQUENCE:3
DTSTAMP:20260423T203949Z
URL:https://business.moultriechamber.com/events/details/the-art-of-the-hunt-week-fawn-feathers-13325
END:VEVENT

END:VCALENDAR
