BEGIN:VCALENDAR
VERSION:2.0
PRODID:-//ChamberMaster//Event Calendar 2.0//EN
METHOD:PUBLISH
X-PUBLISHED-TTL:P3D
REFRESH-INTERVAL:P3D
CALSCALE:GREGORIAN
BEGIN:VEVENT
DTSTART:20231118T153000Z
DTEND:20231118T163000Z
X-MICROSOFT-CDO-ALLDAYEVENT:FALSE
SUMMARY:The Art of Geocaching
DESCRIPTION:Geocaching\, a real-world treasure-hunting game using GPS-enabled devices\, is fun for the whole family. All you need is a free account at geocaching.com and a GPS-enabled device. Let us help you get started. This free event is open to all levels of geocaching experience\, from first-timers to experts. For more information call the library at 229-985-6540 or email amcnair@mccls.org.
X-ALT-DESC;FMTTYPE=text/html:Geocaching\, a real-world treasure-hunting game using GPS-enabled devices\, is fun for the whole family. All you need is a free account at geocaching.com and a GPS-enabled device. Let us help you get started. This free event is open to all levels of geocaching experience\, from first-timers to experts. For more information call the library at 229-985-6540 or email amcnair@mccls.org.
LOCATION:Moultrie-Colquitt County 204 5th St SE Moultrie\, Ga
UID:e.570.13213
SEQUENCE:3
DTSTAMP:20260424T151759Z
URL:https://business.moultriechamber.com/events/details/the-art-of-geocaching-13213
END:VEVENT

END:VCALENDAR
