BEGIN:VCALENDAR
VERSION:2.0
PRODID:-//ChamberMaster//Event Calendar 2.0//EN
METHOD:PUBLISH
X-PUBLISHED-TTL:P3D
REFRESH-INTERVAL:P3D
CALSCALE:GREGORIAN
BEGIN:VEVENT
DTSTART:20251031T220000Z
DTEND:20251101T000000Z
X-MICROSOFT-CDO-ALLDAYEVENT:FALSE
SUMMARY:Teen Glow Nerf Night & Pizza - MCCPRA
DESCRIPTION:Get ready for an action packed evening at the Teen Glow Nerf Night & Pizza! Join the MCCPRA for two hours of glow in the dark fun as teams face off in exciting Nerf battles under black lights. After the games\, everyone can refuel with a delicious pizza dinner and hang out with friends.
X-ALT-DESC;FMTTYPE=text/html:<br />\n<span style="font-size:16px\;">Get ready for an action packed evening at the Teen Glow Nerf Night &amp\; Pizza! Join the MCCPRA for two hours of glow in the dark fun as teams face off in exciting Nerf battles under black lights. After the games\, everyone can refuel with a delicious pizza dinner and hang out with friends.&nbsp\;</span>
LOCATION:Meredith Gym
UID:e.570.13445
SEQUENCE:3
DTSTAMP:20260423T151621Z
URL:https://business.moultriechamber.com/events/details/teen-glow-nerf-night-pizza-mccpra-13445
END:VEVENT

END:VCALENDAR
