BEGIN:VCALENDAR
VERSION:2.0
PRODID:-//ChamberMaster//Event Calendar 2.0//EN
METHOD:PUBLISH
X-PUBLISHED-TTL:P3D
REFRESH-INTERVAL:P3D
CALSCALE:GREGORIAN
BEGIN:VEVENT
DTSTART:20231209T150000Z
DTEND:20231209T163000Z
X-MICROSOFT-CDO-ALLDAYEVENT:FALSE
SUMMARY:Swim with the Grinch
DESCRIPTION:Come jump in the heated pool and help decoarte an underwater tree\, Grinch goodies and games to follow!
X-ALT-DESC;FMTTYPE=text/html:Come jump in the heated pool and help decoarte an underwater tree\, Grinch goodies and games to follow!
LOCATION:Southwest Memorial POol 1020 4th St SW
UID:e.570.13217
SEQUENCE:3
DTSTAMP:20260424T135144Z
URL:https://business.moultriechamber.com/events/details/swim-with-the-grinch-12-09-2023-13217
END:VEVENT

END:VCALENDAR
