BEGIN:VCALENDAR
VERSION:2.0
PRODID:-//ChamberMaster//Event Calendar 2.0//EN
METHOD:PUBLISH
X-PUBLISHED-TTL:P3D
REFRESH-INTERVAL:P3D
CALSCALE:GREGORIAN
BEGIN:VEVENT
DTSTART:20230602T143000Z
DTEND:20230602T153000Z
X-MICROSOFT-CDO-ALLDAYEVENT:FALSE
SUMMARY:Summer Reading Kickoff "Block Party"
DESCRIPTION:Take your picture with LEGO Batman\, decorate a LEGO mini-figure mask\, build with LEGO\, and make a LEGO-themed treat to kick off summer reading.
X-ALT-DESC;FMTTYPE=text/html:Take your picture with LEGO Batman\, decorate a LEGO mini-figure mask\, build with LEGO\, and make a LEGO-themed treat to kick off summer reading.
LOCATION:Moultrie Library 204 5th St\, SE Moultrie\, GA
UID:e.570.13128
SEQUENCE:3
DTSTAMP:20260424T210536Z
URL:https://business.moultriechamber.com/events/details/summer-reading-kickoff-block-party-13128
END:VEVENT

END:VCALENDAR
