BEGIN:VCALENDAR
VERSION:2.0
PRODID:-//ChamberMaster//Event Calendar 2.0//EN
METHOD:PUBLISH
X-PUBLISHED-TTL:P3D
REFRESH-INTERVAL:P3D
CALSCALE:GREGORIAN
BEGIN:VEVENT
DTSTART:20230415T160000Z
DTEND:20230415T160000Z
X-MICROSOFT-CDO-ALLDAYEVENT:FALSE
SUMMARY:Splash Pad Open to the Public Every Saturday & Sunday
DESCRIPTION:Splash Pad opens to the public every Saturday and Sunday from 12:30-2:30!
X-ALT-DESC;FMTTYPE=text/html:Splash Pad opens to the public every Saturday and Sunday from 12:30-2:30!
LOCATION:
UID:e.570.13069
SEQUENCE:3
DTSTAMP:20260424T233947Z
URL:https://business.moultriechamber.com/events/details/splash-pad-open-to-the-public-every-saturday-sunday-04-15-2023-13069
END:VEVENT

END:VCALENDAR
