BEGIN:VCALENDAR
VERSION:2.0
PRODID:-//ChamberMaster//Event Calendar 2.0//EN
METHOD:PUBLISH
X-PUBLISHED-TTL:P3D
REFRESH-INTERVAL:P3D
CALSCALE:GREGORIAN
BEGIN:VEVENT
DTSTART:20230926T150000Z
DTEND:20230926T160000Z
X-MICROSOFT-CDO-ALLDAYEVENT:FALSE
SUMMARY:Spence Army Airfield Memorial Marker dedication
DESCRIPTION:Paying tribute to the 62 air cadets and instructors killed during training exercises at Spence Army Airfield during World War II.
X-ALT-DESC;FMTTYPE=text/html:Paying tribute to the 62 air cadets and instructors killed during training exercises at Spence Army Airfield during World War II.
LOCATION:Spence Field
UID:e.570.13177
SEQUENCE:3
DTSTAMP:20260424T172350Z
URL:https://business.moultriechamber.com/events/details/spence-army-airfield-memorial-marker-dedication-13177
END:VEVENT

END:VCALENDAR
