BEGIN:VCALENDAR
VERSION:2.0
PRODID:-//ChamberMaster//Event Calendar 2.0//EN
METHOD:PUBLISH
X-PUBLISHED-TTL:P3D
REFRESH-INTERVAL:P3D
CALSCALE:GREGORIAN
BEGIN:VEVENT
DTSTART:20251022T150000Z
DTEND:20251022T170000Z
X-MICROSOFT-CDO-ALLDAYEVENT:FALSE
SUMMARY:South Georgia Women’s Leadership Initiative – 3rd Annual Luncheon
DESCRIPTION:The South Georgia Women's Leadership Initiative 3rd Annual Luncheon\, a program of South GeorgiaLEADS\, will bring together women from across the region to celebrate leadership\, foster meaningful connections\, and encourage both personal and professional growth. \n\nAttendees will enjoy a luncheon program that highlight the impact of women leaders in the community while providing an opportunity for networking and inspiration.
X-ALT-DESC;FMTTYPE=text/html:<br />\n<span style="font-size:16px\;">The South Georgia Women&#39\;s Leadership Initiative 3rd Annual Luncheon\, a program of South GeorgiaLEADS\, will bring together women from across the region to celebrate leadership\, foster meaningful connections\, and encourage both personal and professional growth.&nbsp\;<br />\nAttendees will enjoy a luncheon program that highlight the impact of women leaders in the community while providing an opportunity for networking and inspiration.&nbsp\;</span>
LOCATION:Gin Creek 251 Demott Rd\, Hartsfield\, Ga 31756
UID:e.570.13428
SEQUENCE:3
DTSTAMP:20260423T152252Z
URL:https://business.moultriechamber.com/events/details/south-georgia-women-s-leadership-initiative-3rd-annual-luncheon-13428
END:VEVENT

END:VCALENDAR
