BEGIN:VCALENDAR
VERSION:2.0
PRODID:-//ChamberMaster//Event Calendar 2.0//EN
METHOD:PUBLISH
X-PUBLISHED-TTL:P3D
REFRESH-INTERVAL:P3D
CALSCALE:GREGORIAN
BEGIN:VEVENT
DTSTART:20240126T220000Z
DTEND:20240127T000000Z
X-MICROSOFT-CDO-ALLDAYEVENT:FALSE
SUMMARY:Soup and Sandwich Dinner
DESCRIPTION:SOUP AND SANDWICH DINNER for ages 50 PLUS will be served Friday\, 26th at 5 PM at the Ryce Community Center. Come and gather with friends for a delicious soup and sandwich dinner\, delightful conversation\, and a yummy dessert or two. $5 per person. Register by 12:00 Noon on the 25th.
X-ALT-DESC;FMTTYPE=text/html:SOUP AND SANDWICH DINNER for ages 50 PLUS will be served Friday\, 26th at 5 PM at the Ryce Community Center. Come and gather with friends for a delicious soup and sandwich dinner\, delightful conversation\, and a yummy dessert or two. $5 per person. Register by 12:00 Noon on the 25th.
LOCATION:Ryce Community Center
UID:e.570.13246
SEQUENCE:3
DTSTAMP:20260424T122555Z
URL:https://business.moultriechamber.com/events/details/soup-and-sandwich-dinner-13246
END:VEVENT

END:VCALENDAR
