BEGIN:VCALENDAR
VERSION:2.0
PRODID:-//ChamberMaster//Event Calendar 2.0//EN
METHOD:PUBLISH
X-PUBLISHED-TTL:P3D
REFRESH-INTERVAL:P3D
CALSCALE:GREGORIAN
BEGIN:VEVENT
DTSTART:20230101T060000Z
DTEND:20230201T045500Z
X-MICROSOFT-CDO-ALLDAYEVENT:FALSE
SUMMARY:Softball\, T-ball & Baseball Registration MCCPRA
DESCRIPTION:Registration is now open for soft ball t-ball and baseball\; registration ends on Jan 31st\, 2023! Get signed up today!
X-ALT-DESC;FMTTYPE=text/html:Registration is now open for soft ball t-ball and baseball\; registration ends on Jan 31st\, 2023! Get signed up today!
LOCATION:Moultrie Colquitt County Parks and Recreation Authority
UID:e.570.13018
SEQUENCE:3
DTSTAMP:20260425T034436Z
URL:https://business.moultriechamber.com/events/details/softball-t-ball-baseball-registration-mccpra-13018
END:VEVENT

END:VCALENDAR
