BEGIN:VCALENDAR
VERSION:2.0
PRODID:-//ChamberMaster//Event Calendar 2.0//EN
METHOD:PUBLISH
X-PUBLISHED-TTL:P3D
REFRESH-INTERVAL:P3D
CALSCALE:GREGORIAN
BEGIN:VEVENT
DTSTART:20240127T153000Z
DTEND:20240127T163000Z
X-MICROSOFT-CDO-ALLDAYEVENT:FALSE
SUMMARY:Smarter Search Strategies with Thomas MacEntee
DESCRIPTION:Most genealogists begin their research online and often become frustrated with the lack of results. The cause might not be a lack of records at the specific site but the way you're performing the search! While basic search techniques work on all the major genealogy sites\, you need to power up your search skills to get the most out of niche genealogy websites and uncover those hidden record sets! Join Thomas MacEntee\, professional genealogist\, to explore these strategies at the Moultrie Library. Everyone is welcome to this free event. For more information call the library at 229-985-6540 or email amcnair@mccls.org.
X-ALT-DESC;FMTTYPE=text/html:Most genealogists begin their research online and often become frustrated with the lack of results. The cause might not be a lack of records at the specific site but the way you&rsquo\;re performing the search! While basic search techniques work on all the major genealogy sites\, you need to power up your search skills to get the most out of niche genealogy websites and uncover those hidden record sets! Join Thomas MacEntee\, professional genealogist\, to explore these strategies at the Moultrie Library. Everyone is welcome to this free event. For more information call the library at 229-985-6540 or email amcnair@mccls.org.
LOCATION:Moultrie-Colquitt County Library 204 5th St. SE\, Moultrie\, GA
UID:e.570.13214
SEQUENCE:3
DTSTAMP:20260424T140508Z
URL:https://business.moultriechamber.com/events/details/smarter-search-strategies-with-thomas-macentee-13214
END:VEVENT

END:VCALENDAR
