BEGIN:VCALENDAR
VERSION:2.0
PRODID:-//ChamberMaster//Event Calendar 2.0//EN
METHOD:PUBLISH
X-PUBLISHED-TTL:P3D
REFRESH-INTERVAL:P3D
CALSCALE:GREGORIAN
BEGIN:VEVENT
DTSTART:20250609T160000Z
DTEND:20250609T170000Z
X-MICROSOFT-CDO-ALLDAYEVENT:FALSE
SUMMARY:Sifting Through Your Parental Rights-Parent to parent of Georgia
DESCRIPTION:Hosted by Parent to Parent of Georgia\, this informative session will guide parents and caregivers through their legal rights under the Individuals with Disabilities Education Act. The workshop is designed to empower families by clarifying the protections and services available for children with disabilities.
X-ALT-DESC;FMTTYPE=text/html:Hosted by Parent to Parent of Georgia\, this informative session will guide parents and caregivers through their legal rights under the Individuals with Disabilities Education Act.&nbsp\;The workshop is designed to empower families by clarifying the protections and services available for children with disabilities.
LOCATION:Online
UID:e.570.13366
SEQUENCE:3
DTSTAMP:20260423T111145Z
URL:https://business.moultriechamber.com/events/details/sifting-through-your-parental-rights-parent-to-parent-of-georgia-13366
END:VEVENT

END:VCALENDAR
