BEGIN:VCALENDAR
VERSION:2.0
PRODID:-//ChamberMaster//Event Calendar 2.0//EN
METHOD:PUBLISH
X-PUBLISHED-TTL:P3D
REFRESH-INTERVAL:P3D
CALSCALE:GREGORIAN
BEGIN:VEVENT
DTSTART:20231012T223000Z
DTEND:20231013T000000Z
X-MICROSOFT-CDO-ALLDAYEVENT:FALSE
SUMMARY:Serenity House Candlelight Vigil
DESCRIPTION:Please join us as we take this opportunity to remember those in our community who lost their lives to domestic violence.
X-ALT-DESC;FMTTYPE=text/html:Please join us as we take this opportunity to remember those in our community who lost their lives to domestic violence.
LOCATION:Lily Pond Farms Event Center
UID:e.570.13197
SEQUENCE:3
DTSTAMP:20260424T161043Z
URL:https://business.moultriechamber.com/events/details/serenity-house-candlelight-vigil-10-12-2023-13197
END:VEVENT

END:VCALENDAR
