BEGIN:VCALENDAR
VERSION:2.0
PRODID:-//ChamberMaster//Event Calendar 2.0//EN
METHOD:PUBLISH
X-PUBLISHED-TTL:P3D
REFRESH-INTERVAL:P3D
CALSCALE:GREGORIAN
BEGIN:VEVENT
DTSTART;VALUE=DATE:20250412
DTEND;VALUE=DATE:20250413
TRANSP:TRANSPARENT
X-MICROSOFT-CDO-ALLDAYEVENT:TRUE
SUMMARY:Second Saturday
DESCRIPTION:Visit Downtown Moultrie on March 11th for Second Saturday! Downtown merchants will be holding sidewalk sales\, and several area food trucks will gather around the Courthouse Square. Select downtown eateries will be open as well! For more information on the event\, call 229-890-5455.\n\nFood Trucks: 11:00 AM   3:30 PM\n\nSidewalk Sales: 10:00 AM   6:00 PM
X-ALT-DESC;FMTTYPE=text/html:Visit Downtown Moultrie on March 11th for Second Saturday! Downtown merchants will be holding sidewalk sales\, and several area food trucks will gather around the Courthouse Square. Select downtown eateries will be open as well! For more information on the event\, call 229-890-5455.<br />\nFood Trucks: 11:00 AM &ndash\; 3:30 PM<br />\nSidewalk Sales: 10:00 AM &ndash\; 6:00 PM
LOCATION:Downtown Moultrie
UID:e.570.13347
SEQUENCE:3
DTSTAMP:20260423T174743Z
URL:https://business.moultriechamber.com/events/details/second-saturday-04-12-2025-13347
END:VEVENT

END:VCALENDAR
