BEGIN:VCALENDAR
VERSION:2.0
PRODID:-//ChamberMaster//Event Calendar 2.0//EN
METHOD:PUBLISH
X-PUBLISHED-TTL:P3D
REFRESH-INTERVAL:P3D
CALSCALE:GREGORIAN
BEGIN:VEVENT
DTSTART:20240309T153000Z
DTEND:20240309T163000Z
X-MICROSOFT-CDO-ALLDAYEVENT:FALSE
SUMMARY:Searching for Big Foot with Mike Familant
DESCRIPTION:Northwest New Jersey\, as he shares his experiences researching and tracking the elusive Bigfoot on Saturday\, March 9\, 10:30 am   11:30 pm at the Moultrie Library. During the presentation\, you will experience extraordinary evidence backed by facts collected throughout the years\, along with some of the unfortunate experiences that come along with Bigfooting. Everyone is welcome to this free event. For more information call the library at 229-985-6540 or email amcnair@mccls.org.
X-ALT-DESC;FMTTYPE=text/html:Northwest New Jersey\, as he shares his experiences researching and tracking the elusive Bigfoot on Saturday\, March 9\, 10:30 am &ndash\; 11:30 pm at the Moultrie Library. During the presentation\, you will experience extraordinary evidence backed by facts collected throughout the years\, along with some of the unfortunate experiences that come along with Bigfooting. Everyone is welcome to this free event. For more information call the library at 229-985-6540 or email amcnair@mccls.org.
LOCATION:Moultrie-Colquitt County Library 204 5th St. SE\, Moultrie\, GA
UID:e.570.13215
SEQUENCE:3
DTSTAMP:20260424T100546Z
URL:https://business.moultriechamber.com/events/details/searching-for-big-foot-with-mike-familant-13215
END:VEVENT

END:VCALENDAR
