BEGIN:VCALENDAR
VERSION:2.0
PRODID:-//ChamberMaster//Event Calendar 2.0//EN
METHOD:PUBLISH
X-PUBLISHED-TTL:P3D
REFRESH-INTERVAL:P3D
CALSCALE:GREGORIAN
BEGIN:VEVENT
DTSTART:20260710T230000Z
DTEND:20260711T020000Z
X-MICROSOFT-CDO-ALLDAYEVENT:FALSE
SUMMARY:Seaplane Opry House
DESCRIPTION:Country music by Deep River Music\n\nEvery Friday from 7pm-10pm\n\nRound & Line dancing\n\nConcessions available
X-ALT-DESC;FMTTYPE=text/html:Country music by Deep River Music<br />\nEvery Friday from 7pm-10pm<br />\nRound &amp\; Line dancing<br />\nConcessions available
LOCATION:Seaplane Opry House Spencefield
UID:e.570.10867
SEQUENCE:3
DTSTAMP:20260423T213845Z
URL:https://business.moultriechamber.com/events/details/seaplane-opry-house-07-10-2026-10867
END:VEVENT

END:VCALENDAR
