BEGIN:VCALENDAR
VERSION:2.0
PRODID:-//ChamberMaster//Event Calendar 2.0//EN
METHOD:PUBLISH
X-PUBLISHED-TTL:P3D
REFRESH-INTERVAL:P3D
CALSCALE:GREGORIAN
BEGIN:VEVENT
DTSTART:20250129T150000Z
DTEND:20250129T170000Z
X-MICROSOFT-CDO-ALLDAYEVENT:FALSE
SUMMARY:SCORE South Georgia - Commercial Real Estate Leasing
DESCRIPTION:Navigate Lease Agreements and Avoid Property Pitfalls\n\nWhether your business is industrial\, service\, or retail\, you will thrive in the right location. Start the process with a well structured commercial real estate lease.\n\nA good commercial real estate lease works for both parties. For the business owner\, it prevents any unfavorable terms that could hurt the company's bottom line. And\, for the property owner\, it prevents any misunderstandings or conflicts that might affect the property or the ability to collect rent.\n\n Discover the best ways to search for a location and address issues such as liability\, rent\, exclusivity\, and remedies.\n\nWhat you will learn:\n\n\n	The vocabulary of commercial leases\n	What questions you should ask before you sign a lease\n	What issues landlords see as important\n	How to find professionals to represent you\n\n\nTake-Aways\n\n\n	Glossary of Commercial Real Estate Lease Terms\n	Checklist of questions to be answered before signing a lease
X-ALT-DESC;FMTTYPE=text/html:<p style="box-sizing: border-box\; border-width: 0px\; border-style: solid\; border-color: currentcolor\; margin: 0px\; font-family: var(--ff-body)\; font-size: var(--fs-xl)\; line-height: var(--lh-xl)\; color: var(--brand-secondaryGraphite)\; margin-block-start: var(--wysiwyg-gap-size)\; margin-block-end: var(--wysiwyg-gap-size)\;"><span style="font-size:12px\;"><span style="box-sizing: border-box\; border-width: 0px\; border-style: solid\; border-color: currentcolor\; font-weight: bolder\; margin: 0px\; line-height: var(--lh-xl)\; color: var(--brand-secondaryGraphite)\;">Navigate Lease Agreements and Avoid Property Pitfalls</span></span></p>\n\n<p style="box-sizing: border-box\; border-width: 0px\; border-style: solid\; border-color: currentcolor\; margin: 0px\; font-family: var(--ff-body)\; font-size: var(--fs-xl)\; line-height: var(--lh-xl)\; color: var(--brand-secondaryGraphite)\; margin-block-start: var(--wysiwyg-gap-size)\; margin-block-end: var(--wysiwyg-gap-size)\;"><span style="font-size:12px\;"><span style="box-sizing: border-box\; border-width: 0px\; border-style: solid\; border-color: currentcolor\;">Whether your business is industrial\, service\, or retail\, you will thrive in the right location. Start the process with a well structured commercial real estate lease.</span></span></p>\n\n<p style="box-sizing: border-box\; border-width: 0px\; border-style: solid\; border-color: currentcolor\; margin: 0px\; font-family: var(--ff-body)\; font-size: var(--fs-xl)\; line-height: var(--lh-xl)\; color: var(--brand-secondaryGraphite)\; margin-block-start: var(--wysiwyg-gap-size)\; margin-block-end: var(--wysiwyg-gap-size)\;"><span style="font-size:12px\;"><span style="box-sizing: border-box\; border-width: 0px\; border-style: solid\; border-color: currentcolor\;">A good commercial real estate lease works for both parties. For the business owner\, it prevents any unfavorable terms that could hurt the company&rsquo\;s bottom line. And\, for the property owner\, it prevents any misunderstandings or conflicts that might affect the property or the ability to collect rent.</span></span></p>\n\n<p style="box-sizing: border-box\; border-width: 0px\; border-style: solid\; border-color: currentcolor\; margin: 0px\; font-family: var(--ff-body)\; font-size: var(--fs-xl)\; line-height: var(--lh-xl)\; color: var(--brand-secondaryGraphite)\; margin-block-start: var(--wysiwyg-gap-size)\; margin-block-end: var(--wysiwyg-gap-size)\;"><span style="font-size:12px\;"><span style="box-sizing: border-box\; border-width: 0px\; border-style: solid\; border-color: currentcolor\;">&#65279\;Discover the best ways to search for a location and address issues such as liability\, rent\, exclusivity\, and remedies.</span></span></p>\n\n<p style="box-sizing: border-box\; border-width: 0px\; border-style: solid\; border-color: currentcolor\; margin: 0px\; font-family: var(--ff-body)\; font-size: var(--fs-xl)\; line-height: var(--lh-xl)\; color: var(--brand-secondaryGraphite)\; margin-block-start: var(--wysiwyg-gap-size)\; margin-block-end: var(--wysiwyg-gap-size)\;"><span style="font-size:12px\;"><span style="box-sizing: border-box\; border-width: 0px\; border-style: solid\; border-color: currentcolor\;">What you will learn:</span></span></p>\n\n<ul style="box-sizing: border-box\; border-width: 0px\; border-style: solid\; border-color: currentcolor\; list-style-position: initial\; list-style-image: initial\; margin: 0px\; margin-block-start: var(--wysiwyg-gap-size)\; margin-block-end: var(--wysiwyg-gap-size)\; color: rgb(0\, 0\, 0)\; font-family: ui-sans-serif\, system-ui\, sans-serif\, &quot\;Apple Color Emoji&quot\;\, &quot\;Segoe UI Emoji&quot\;\, &quot\;Segoe UI Symbol&quot\;\, &quot\;Noto Color Emoji&quot\;\; font-size: medium\;">\n	<li style="box-sizing: border-box\; border-width: 0px\; border-style: solid\; border-color: currentcolor\; padding-left: 12px\; font-family: var(--ff-body)\; line-height: var(--lh-lg)\; color: var(--brand-secondaryGraphite)\; font-size: var(--fs-lg)\; margin-block-end: 1rem\;"><span style="font-size:12px\;"><span style="box-sizing: border-box\; border-width: 0px\; border-style: solid\; border-color: currentcolor\;">The vocabulary of commercial leases</span></span></li>\n	<li style="box-sizing: border-box\; border-width: 0px\; border-style: solid\; border-color: currentcolor\; padding-left: 12px\; font-family: var(--ff-body)\; line-height: var(--lh-lg)\; color: var(--brand-secondaryGraphite)\; font-size: var(--fs-lg)\; margin-block-end: 1rem\;"><span style="font-size:12px\;"><span style="box-sizing: border-box\; border-width: 0px\; border-style: solid\; border-color: currentcolor\;">What questions you should ask before you sign a lease</span></span></li>\n	<li style="box-sizing: border-box\; border-width: 0px\; border-style: solid\; border-color: currentcolor\; padding-left: 12px\; font-family: var(--ff-body)\; line-height: var(--lh-lg)\; color: var(--brand-secondaryGraphite)\; font-size: var(--fs-lg)\; margin-block-end: 1rem\;"><span style="font-size:12px\;"><span style="box-sizing: border-box\; border-width: 0px\; border-style: solid\; border-color: currentcolor\;">What issues landlords see as important</span></span></li>\n	<li style="box-sizing: border-box\; border-width: 0px\; border-style: solid\; border-color: currentcolor\; padding-left: 12px\; font-family: var(--ff-body)\; line-height: var(--lh-lg)\; color: var(--brand-secondaryGraphite)\; font-size: var(--fs-lg)\;"><span style="font-size:12px\;"><span style="box-sizing: border-box\; border-width: 0px\; border-style: solid\; border-color: currentcolor\;">How to find professionals to represent you</span></span></li>\n</ul>\n\n<p style="box-sizing: border-box\; border-width: 0px\; border-style: solid\; border-color: currentcolor\; margin: 0px\; font-family: var(--ff-body)\; font-size: var(--fs-xl)\; line-height: var(--lh-xl)\; color: var(--brand-secondaryGraphite)\; margin-block-start: var(--wysiwyg-gap-size)\; margin-block-end: var(--wysiwyg-gap-size)\;"><span style="font-size:12px\;"><span style="box-sizing: border-box\; border-width: 0px\; border-style: solid\; border-color: currentcolor\; font-weight: bolder\; margin: 0px\; line-height: var(--lh-xl)\; color: var(--brand-secondaryGraphite)\;">Take-Aways</span></span></p>\n\n<ul style="box-sizing: border-box\; border-width: 0px\; border-style: solid\; border-color: currentcolor\; list-style-position: initial\; list-style-image: initial\; margin: 0px\; margin-block-start: var(--wysiwyg-gap-size)\; margin-block-end: var(--wysiwyg-gap-size)\; color: rgb(0\, 0\, 0)\; font-family: ui-sans-serif\, system-ui\, sans-serif\, &quot\;Apple Color Emoji&quot\;\, &quot\;Segoe UI Emoji&quot\;\, &quot\;Segoe UI Symbol&quot\;\, &quot\;Noto Color Emoji&quot\;\; font-size: medium\;">\n	<li style="box-sizing: border-box\; border-width: 0px\; border-style: solid\; border-color: currentcolor\; padding-left: 12px\; font-family: var(--ff-body)\; line-height: var(--lh-lg)\; color: var(--brand-secondaryGraphite)\; font-size: var(--fs-lg)\; margin-block-end: 1rem\;"><span style="font-size:12px\;"><span style="box-sizing: border-box\; border-width: 0px\; border-style: solid\; border-color: currentcolor\;">Glossary of Commercial Real Estate Lease Terms</span></span></li>\n	<li style="box-sizing: border-box\; border-width: 0px\; border-style: solid\; border-color: currentcolor\; padding-left: 12px\; font-family: var(--ff-body)\; line-height: var(--lh-lg)\; color: var(--brand-secondaryGraphite)\; font-size: var(--fs-lg)\;"><span style="font-size:12px\;"><span style="box-sizing: border-box\; border-width: 0px\; border-style: solid\; border-color: currentcolor\;">Checklist of questions to be answered before signing a lease</span></span></li>\n</ul>\n
LOCATION:Live Event (online)
UID:e.570.13335
SEQUENCE:3
DTSTAMP:20260423T214228Z
URL:https://business.moultriechamber.com/events/details/score-south-georgia-commercial-real-estate-leasing-13335
END:VEVENT

END:VCALENDAR
