BEGIN:VCALENDAR
VERSION:2.0
PRODID:-//ChamberMaster//Event Calendar 2.0//EN
METHOD:PUBLISH
X-PUBLISHED-TTL:P3D
REFRESH-INTERVAL:P3D
CALSCALE:GREGORIAN
BEGIN:VEVENT
DTSTART:20250930T140000Z
DTEND:20250930T150000Z
X-MICROSOFT-CDO-ALLDAYEVENT:FALSE
SUMMARY:SBDC-Writing your business plan
DESCRIPTION:Join us to explore why a business plan is essential and how to craft one that tells the story of your business. Learn how to effectively communicate your vision\, goals\, and strategy through a well-structured plan tailored to your needs. This class guides you through each section of the business plan\, from executive summaries to financial projections\, providing tools and resources to support you throughout the process.
X-ALT-DESC;FMTTYPE=text/html:<p data-end="545" data-start="124">Join us to explore why a business plan is essential and how to craft one that tells the story of your business. Learn how to effectively communicate your vision\, goals\, and strategy through a well-structured plan tailored to your needs. This class guides you through each section of the business plan\, from executive summaries to financial projections\, providing tools and resources to support you throughout the process.</p>\n
LOCATION:Zoom call
UID:e.570.13377
SEQUENCE:3
DTSTAMP:20260423T140727Z
URL:https://business.moultriechamber.com/events/details/sbdc-writing-your-business-plan-13377
END:VEVENT

END:VCALENDAR
