BEGIN:VCALENDAR
VERSION:2.0
PRODID:-//ChamberMaster//Event Calendar 2.0//EN
METHOD:PUBLISH
X-PUBLISHED-TTL:P3D
REFRESH-INTERVAL:P3D
CALSCALE:GREGORIAN
BEGIN:VEVENT
DTSTART:20240328T203000Z
DTEND:20240328T210000Z
X-MICROSOFT-CDO-ALLDAYEVENT:FALSE
SUMMARY:Ribbon Cutting - Wellspring Medical Spa
DESCRIPTION:Join us as we celebrate a ribbon cutting celebration for Wellspring Medical Spa!
X-ALT-DESC;FMTTYPE=text/html:Join us as we celebrate a ribbon cutting celebration for Wellspring Medical Spa!
LOCATION:17 N Main St\, Moultrie\, Ga
UID:e.570.13254
SEQUENCE:3
DTSTAMP:20260424T105858Z
URL:https://business.moultriechamber.com/events/details/ribbon-cutting-wellspring-medical-spa-13254
END:VEVENT

END:VCALENDAR
