BEGIN:VCALENDAR
VERSION:2.0
PRODID:-//ChamberMaster//Event Calendar 2.0//EN
METHOD:PUBLISH
X-PUBLISHED-TTL:P3D
REFRESH-INTERVAL:P3D
CALSCALE:GREGORIAN
BEGIN:VEVENT
DTSTART:20250625T200000Z
DTEND:20250625T200000Z
X-MICROSOFT-CDO-ALLDAYEVENT:FALSE
SUMMARY:Ribbon Cutting - The Beauty Room
DESCRIPTION:Join us as we celebrate a ribbon cutting celebration for The Beauty Room!
X-ALT-DESC;FMTTYPE=text/html:Join us as we celebrate a ribbon cutting celebration for&nbsp\;<span data-teams="true"><strong>The Beauty Room!</strong></span>
LOCATION:143 US Hwy 319 S\, Unit 11
UID:e.570.13375
SEQUENCE:3
DTSTAMP:20260423T110833Z
URL:https://business.moultriechamber.com/events/details/ribbon-cutting-the-beauty-room-13375
END:VEVENT

END:VCALENDAR
