BEGIN:VCALENDAR
VERSION:2.0
PRODID:-//ChamberMaster//Event Calendar 2.0//EN
METHOD:PUBLISH
X-PUBLISHED-TTL:P3D
REFRESH-INTERVAL:P3D
CALSCALE:GREGORIAN
BEGIN:VEVENT
DTSTART:20250620T130000Z
DTEND:20250620T130000Z
X-MICROSOFT-CDO-ALLDAYEVENT:FALSE
SUMMARY:Ribbon Cutting - So Danca Dance Company
DESCRIPTION:Join us as we celebrate a ribbon cutting celebration for So Danca Dance Company!
X-ALT-DESC;FMTTYPE=text/html:Join us as we celebrate a ribbon cutting celebration for&nbsp\;<span data-teams="true"><strong>So Danca Dance Company!</strong></span>
LOCATION:209 3rd Street NE
UID:e.570.13373
SEQUENCE:3
DTSTAMP:20260423T110842Z
URL:https://business.moultriechamber.com/events/details/ribbon-cutting-so-danca-dance-company-13373
END:VEVENT

END:VCALENDAR
