BEGIN:VCALENDAR
VERSION:2.0
PRODID:-//ChamberMaster//Event Calendar 2.0//EN
METHOD:PUBLISH
X-PUBLISHED-TTL:P3D
REFRESH-INTERVAL:P3D
CALSCALE:GREGORIAN
BEGIN:VEVENT
DTSTART:20250618T143000Z
DTEND:20250618T143000Z
X-MICROSOFT-CDO-ALLDAYEVENT:FALSE
SUMMARY:Ribbon Cutting - Persis Biryani Indian Grill
DESCRIPTION:Join us as we celebrate a ribbon cutting celebration for Persis Biryani Indian Grill
X-ALT-DESC;FMTTYPE=text/html:Join us as we celebrate a ribbon cutting celebration for&nbsp\;<span data-teams="true"><strong>Persis Biryani Indian Grill</strong></span>
LOCATION:928 Veterans Pkwy N\, Suite B
UID:e.570.13372
SEQUENCE:3
DTSTAMP:20260423T110727Z
URL:https://business.moultriechamber.com/events/details/ribbon-cutting-persis-biryani-indian-grill-13372
END:VEVENT

END:VCALENDAR
