BEGIN:VCALENDAR
VERSION:2.0
PRODID:-//ChamberMaster//Event Calendar 2.0//EN
METHOD:PUBLISH
X-PUBLISHED-TTL:P3D
REFRESH-INTERVAL:P3D
CALSCALE:GREGORIAN
BEGIN:VEVENT
DTSTART:20240419T130000Z
DTEND:20240419T133000Z
X-MICROSOFT-CDO-ALLDAYEVENT:FALSE
SUMMARY:Ribbon Cutting- Off Road Power Sport
DESCRIPTION:Join us for a ribbon cutting / grand opening for Off Road Power Sports and their new location!
X-ALT-DESC;FMTTYPE=text/html:Join us for a ribbon cutting / grand opening for Off Road Power Sports and their new location!&nbsp\;
LOCATION:Off Road Power Sports 1713 1st Ave Se Moultrie\, GA 31768
UID:e.570.13261
SEQUENCE:3
DTSTAMP:20260424T084324Z
URL:https://business.moultriechamber.com/events/details/ribbon-cutting-off-road-power-sport-13261
END:VEVENT

END:VCALENDAR
