BEGIN:VCALENDAR
VERSION:2.0
PRODID:-//ChamberMaster//Event Calendar 2.0//EN
METHOD:PUBLISH
X-PUBLISHED-TTL:P3D
REFRESH-INTERVAL:P3D
CALSCALE:GREGORIAN
BEGIN:VEVENT
DTSTART:20240410T153000Z
DTEND:20240410T160000Z
X-MICROSOFT-CDO-ALLDAYEVENT:FALSE
SUMMARY:Ribbon Cutting - Moultrie Bank & Trust
DESCRIPTION:Join us for a ribbon cutting / grand opening for Moultrie Bank & Trust and their new location!
X-ALT-DESC;FMTTYPE=text/html:Join us for a ribbon cutting / grand opening for Moultrie Bank &amp\; Trust and their new location!&nbsp\;
LOCATION:Moultrie Bank & Trust 600 N Veterans Pkwy\, Moultrie\, GA 31788
UID:e.570.13255
SEQUENCE:3
DTSTAMP:20260424T084146Z
URL:https://business.moultriechamber.com/events/details/ribbon-cutting-moultrie-bank-trust-13255
END:VEVENT

END:VCALENDAR
