BEGIN:VCALENDAR
VERSION:2.0
PRODID:-//ChamberMaster//Event Calendar 2.0//EN
METHOD:PUBLISH
X-PUBLISHED-TTL:P3D
REFRESH-INTERVAL:P3D
CALSCALE:GREGORIAN
BEGIN:VEVENT
DTSTART:20240411T200000Z
DTEND:20240411T203000Z
X-MICROSOFT-CDO-ALLDAYEVENT:FALSE
SUMMARY:Ribbon Cutting- Life Of Adventure
DESCRIPTION:Join us for a ribbon cutting / grand opening for Life Of Adventure Travel Agency!
X-ALT-DESC;FMTTYPE=text/html:Join us for a ribbon cutting / grand opening for Life Of Adventure Travel Agency!
LOCATION:Moultrie Colquitt County Chamber of Commerce 116 1st Ave SE\, Moultrie\, GA 31768
UID:e.570.13260
SEQUENCE:3
DTSTAMP:20260424T084359Z
URL:https://business.moultriechamber.com/events/details/ribbon-cutting-life-of-adventure-13260
END:VEVENT

END:VCALENDAR
