BEGIN:VCALENDAR
VERSION:2.0
PRODID:-//ChamberMaster//Event Calendar 2.0//EN
METHOD:PUBLISH
X-PUBLISHED-TTL:P3D
REFRESH-INTERVAL:P3D
CALSCALE:GREGORIAN
BEGIN:VEVENT
DTSTART:20240430T150000Z
DTEND:20240430T160000Z
X-MICROSOFT-CDO-ALLDAYEVENT:FALSE
SUMMARY:Ribbon Cutting- Hometown Cleaners
DESCRIPTION:Join us for a ribbon cutting / grand opening for Hometown Cleaners!
X-ALT-DESC;FMTTYPE=text/html:Join us for a ribbon cutting / grand opening for Hometown Cleaners!
LOCATION:Hometown Cleaners 541 Veterans Pkwy N Moultrie\, GA 31768
UID:e.570.13264
SEQUENCE:3
DTSTAMP:20260424T084110Z
URL:https://business.moultriechamber.com/events/details/ribbon-cutting-hometown-cleaners-13264
END:VEVENT

END:VCALENDAR
