BEGIN:VCALENDAR
VERSION:2.0
PRODID:-//ChamberMaster//Event Calendar 2.0//EN
METHOD:PUBLISH
X-PUBLISHED-TTL:P3D
REFRESH-INTERVAL:P3D
CALSCALE:GREGORIAN
BEGIN:VEVENT
DTSTART:20251007T200000Z
DTEND:20251007T220000Z
X-MICROSOFT-CDO-ALLDAYEVENT:FALSE
SUMMARY:Ribbon Cutting~ Edward Jones: Robin Redding\, Financial Advisor
DESCRIPTION:Join us for this exciting ribbon cutting ceremony to celebrate Financial advisor\, Robin Redding with Edward Jones!
X-ALT-DESC;FMTTYPE=text/html:<span style="color: rgb(51\, 51\, 51)\; font-family: &quot\;comic sans ms&quot\;\; font-size: 20px\; background-color: rgb(255\, 255\, 255)\;">Join us for this exciting ribbon cutting ceremony to celebrate Financial advisor\, Robin Redding with Edward Jones!&nbsp\;</span>
LOCATION:20 N Main St\, Moultrie
UID:e.570.13422
SEQUENCE:3
DTSTAMP:20260423T152002Z
URL:https://business.moultriechamber.com/events/details/ribbon-cutting-edward-jones-robin-redding-financial-advisor-13422
END:VEVENT

END:VCALENDAR
