BEGIN:VCALENDAR
VERSION:2.0
PRODID:-//ChamberMaster//Event Calendar 2.0//EN
METHOD:PUBLISH
X-PUBLISHED-TTL:P3D
REFRESH-INTERVAL:P3D
CALSCALE:GREGORIAN
BEGIN:VEVENT
DTSTART:20250124T150000Z
DTEND:20250124T153000Z
X-MICROSOFT-CDO-ALLDAYEVENT:FALSE
SUMMARY:Ribbon Cutting - Clements Printing & Red Cardinal Designs LLC
DESCRIPTION:Join us as we celebrate a ribbon cutting celebration for Clements Printing & Red Cardinal Designs LLC!
X-ALT-DESC;FMTTYPE=text/html:Join us as we celebrate a ribbon cutting celebration for Clements Printing &amp\; Red Cardinal Designs LLC!&nbsp\;
LOCATION:127-F Rowland Drive\, Moultrie\, Ga
UID:e.570.13320
SEQUENCE:3
DTSTAMP:20260423T213859Z
URL:https://business.moultriechamber.com/events/details/ribbon-cutting-clements-printing-red-cardinal-designs-llc-13320
END:VEVENT

END:VCALENDAR
