BEGIN:VCALENDAR
VERSION:2.0
PRODID:-//ChamberMaster//Event Calendar 2.0//EN
METHOD:PUBLISH
X-PUBLISHED-TTL:P3D
REFRESH-INTERVAL:P3D
CALSCALE:GREGORIAN
BEGIN:VEVENT
DTSTART:20251003T130000Z
DTEND:20251003T140000Z
X-MICROSOFT-CDO-ALLDAYEVENT:FALSE
SUMMARY:Ribbon Cutting Ceremony~ RecX Outdoor Recreational Expo
DESCRIPTION:Join us to celebrate RecX Outdoor Recreational Expo at their ribbon cutting ceremony!
X-ALT-DESC;FMTTYPE=text/html:<span style="color: rgb(68\, 68\, 68)\; font-family: &quot\;comic sans ms&quot\;\; font-size: 20px\;">Join us to celebrate RecX Outdoor Recreational Expo at their ribbon cutting ceremony!&nbsp\;</span>
LOCATION:Expo Grounds Office\, near the water tower!
UID:e.570.13421
SEQUENCE:3
DTSTAMP:20260423T163213Z
URL:https://business.moultriechamber.com/events/details/ribbon-cutting-ceremony-recx-outdoor-recreational-expo-13421
END:VEVENT

END:VCALENDAR
