BEGIN:VCALENDAR
VERSION:2.0
PRODID:-//ChamberMaster//Event Calendar 2.0//EN
METHOD:PUBLISH
X-PUBLISHED-TTL:P3D
REFRESH-INTERVAL:P3D
CALSCALE:GREGORIAN
BEGIN:VEVENT
DTSTART:20250930T140000Z
DTEND:20250930T150000Z
X-MICROSOFT-CDO-ALLDAYEVENT:FALSE
SUMMARY:Ribbon Cutting Ceremony~ Oneta Marie Boutique
DESCRIPTION:Join us for this exciting ribbon cutting ceremony to celebrate Oneta Maire Boutique!
X-ALT-DESC;FMTTYPE=text/html:<span style="font-family:comic sans ms\;"><span style="font-size:20px\;">Join us for this exciting ribbon cutting ceremony to celebrate Oneta Maire Boutique!&nbsp\;</span></span>
LOCATION:11 First Ave SW\, Moultrie\, GA
UID:e.570.13418
SEQUENCE:3
DTSTAMP:20260423T142856Z
URL:https://business.moultriechamber.com/events/details/ribbon-cutting-ceremony-oneta-marie-boutique-13418
END:VEVENT

END:VCALENDAR
